BEGIN:VCALENDAR
VERSION:2.0
PRODID:-//wp-events-plugin.com//7.2.3.1//EN
BEGIN:VEVENT
UID:239@chorkreis-askanien.de
DTSTART:20171203T180000Z
DTEND:20171203T180000Z
DTSTAMP:20171020T184307Z
URL:https://chorkreis-askanien.de/termine/weihnachtskonzert-in-bottmersdor
 f-2017-12-03/
SUMMARY:Weihnachtskonzert in Bottmersdorf - Bottmersdorf\, Kirche - 03.12.2
 017 - 19:00
DESCRIPTION:Weihnachtskonzert (anlässlich der Wiedereröffnung nach Renovi
 erung)
CATEGORIES:Amici Carminis
LOCATION:Bottmersdorf\, Kirche\, Karl-Liebknecht-Straße\, Bottmersdorf\, D
 eutschland
X-APPLE-STRUCTURED-LOCATION;VALUE=URI;X-ADDRESS=Karl-Liebknecht-Straße\, B
 ottmersdorf\, Deutschland;X-APPLE-RADIUS=100;X-TITLE=Bottmersdorf\, Kirche
 :geo:0,0
END:VEVENT
END:VCALENDAR