BEGIN:VCALENDAR
VERSION:2.0
PRODID:-//wp-events-plugin.com//7.2.3.1//EN
BEGIN:VEVENT
UID:234@chorkreis-askanien.de
DTSTART:20170520T140000Z
DTEND:20170520T173000Z
DTSTAMP:20170517T211642Z
URL:https://chorkreis-askanien.de/termine/sine-musica-nulla-vita-in-egeln-
 praesentation-2017-05-20/
SUMMARY:Sine Musica Nulla Vita in Egeln – Präsentation - Egeln\, Wasserb
 urg - 20.05.2017 - 15:00
DESCRIPTION:15.00 Uhr: Präsentation aller Chöre (Freilichtbühne der Wass
 erburg Egeln)\n18.00 Uhr: Gemeinschaftsprojekt „Mamma Mia!“ - ABBA-Med
 ley mit mehreren Chören (Freilichtbühne der Wasserburg Egeln)\nPräsenta
 tion aller Chöre\nAm 20. Mai findet die Präsentation aller Chöre des 9.
  Egelner Chorfestivals "SINE MUSICA NULLA VITA" statt.\n\nDas Festival fin
 det vom 18.05. bis zum 21.05.2017 statt.\nFolgende Chöre werden am 9. Cho
 rfest "Sine Musica Nulla Vita" in Egeln teilnehmen:\n\n	"Vocal Leo" aus Ha
 vanna (Kuba)\n	"Polifonica" aus Minsk (Weißrussland)\n	"Zoltán Kodály" 
 aus Salgótarján (Ungarn)\n	Young Voices - Egelner Kammerchor\n	Gemischte
 r Chor Egeln e.V.\n	Gemischter Chor des Dr.-Frank-Gymnasiums Staßfurt\n	M
 ädchenkammerchor Egeln\n
CATEGORIES:+Weitere Chöre Vorhanden,Gemischter Chor des Gymnasiums
 Egeln,Gemischter Chor Egeln,Mädchenkammerchor Egeln,Young Voices -
 Egelner Kammerchor
LOCATION:Egeln\, Wasserburg\, Wasserburg 6\, Egeln\, 39435\, Deutschland
GEO:51.94392999999999;11.437440000000038
X-APPLE-STRUCTURED-LOCATION;VALUE=URI;X-ADDRESS=Wasserburg 6\, Egeln\, 3943
 5\, Deutschland;X-APPLE-RADIUS=100;X-TITLE=Egeln\, Wasserburg:geo:51.94392
 999999999,11.437440000000038
END:VEVENT
END:VCALENDAR