BEGIN:VCALENDAR
VERSION:2.0
PRODID:-//wp-events-plugin.com//7.2.3.1//EN
BEGIN:VEVENT
UID:235@chorkreis-askanien.de
DTSTART:20170521T093000Z
DTEND:20170521T093000Z
DTSTAMP:20170517T211056Z
URL:https://chorkreis-askanien.de/termine/sine-musica-nulla-vita-in-egeln-
 matinee-2017-05-21/
SUMMARY:Sine Musica Nulla Vita in Egeln – Matinee - Egeln\, Rathaus - 21.
 05.2017 - 10:30
DESCRIPTION:Matinee aller Chöre auf dem Marktplatz vor dem Egelner Rathaus
 \nMatinee aller Chöre\nAm 21. Mai findet die Matinee aller Chöre des 9. 
 Egelner Chorfestivals "SINE MUSICA NULLA VITA" statt.\n\nDas Festival find
 et vom 18.05. bis zum 21.05.2017 statt.\nFolgende Chöre werden am 9. Chor
 fest "Sine Musica Nulla Vita" in Egeln teilnehmen:\n\n	"Vocal Leo" aus Hav
 anna (Kuba)\n	"Polifonica" aus Minsk (Weißrussland)\n	"Zoltán Kodály" a
 us Salgótarján (Ungarn)\n	Young Voices - Egelner Kammerchor\n	Gemischter
  Chor Egeln e.V.\n	Gemischter Chor des Dr.-Frank-Gymnasiums Staßfurt\n	M
 ädchenkammerchor Egeln\n
CATEGORIES:+Weitere Chöre Vorhanden,Gemischter Chor des Gymnasiums
 Egeln,Gemischter Chor Egeln,Mädchenkammerchor Egeln,Young Voices -
 Egelner Kammerchor
LOCATION:Egeln\, Rathaus\, Markt 18\, Egeln\, 39435\, Deutschland
GEO:51.94405;11.433449999999993
X-APPLE-STRUCTURED-LOCATION;VALUE=URI;X-ADDRESS=Markt 18\, Egeln\, 39435\, 
 Deutschland;X-APPLE-RADIUS=100;X-TITLE=Egeln\, Rathaus:geo:51.94405,11.433
 449999999993
END:VEVENT
END:VCALENDAR