BEGIN:VCALENDAR
VERSION:2.0
PRODID:-//wp-events-plugin.com//7.2.3.1//EN
BEGIN:VEVENT
UID:237@chorkreis-askanien.de
DTSTART:20170903T140000Z
DTEND:20170903T140000Z
DTSTAMP:20170517T214216Z
URL:https://chorkreis-askanien.de/termine/konzert-in-etgersleben-2017-09-0
 3/
SUMMARY:Konzert in Etgersleben - Etgersleben\, Kirche St. Michael - 03.09.2
 017 - 15:00
DESCRIPTION:Gem. Konzert in Kirche Etgersleben mit Salzlandfrauenchor und B
 läserquartett Kroppenstedt\n
CATEGORIES:Gemischter Chor Egeln,Salzland Frauenchor Staßfurt
LOCATION:Etgersleben\, Kirche St. Michael\, An der Kirche\, Etgersleben\, 3
 9448\, Deutschland
X-APPLE-STRUCTURED-LOCATION;VALUE=URI;X-ADDRESS=An der Kirche\, Etgersleben
 \, 39448\, Deutschland;X-APPLE-RADIUS=100;X-TITLE=Etgersleben\, Kirche St.
  Michael:geo:0,0
END:VEVENT
END:VCALENDAR