BEGIN:VCALENDAR
VERSION:2.0
PRODID:-//wp-events-plugin.com//7.2.3.1//EN
BEGIN:VEVENT
UID:236@chorkreis-askanien.de
DTSTART:20170611T150000Z
DTEND:20170611T150000Z
DTSTAMP:20170517T212812Z
URL:https://chorkreis-askanien.de/termine/fruehlingskonzert-in-egeln-2017-
 06-11/
SUMMARY:Frühlingskonzert in Egeln - Egeln\, Gaststätte "Zum Kuhstall" - 1
 1.06.2017 - 16:00
DESCRIPTION:
CATEGORIES:Gemischter Chor Egeln
LOCATION:Egeln\, Gaststätte "Zum Kuhstall"\, Breite Weg 37\, Egeln\, 39435
 \, Deutschland
GEO:51.94350000000001;11.431510000000003
X-APPLE-STRUCTURED-LOCATION;VALUE=URI;X-ADDRESS=Breite Weg 37\, Egeln\, 394
 35\, Deutschland;X-APPLE-RADIUS=100;X-TITLE=Egeln\, Gaststätte \"Zum Kuhs
 tall\":geo:51.94350000000001,11.431510000000003
END:VEVENT
END:VCALENDAR