BEGIN:VCALENDAR
VERSION:2.0
PRODID:-//wp-events-plugin.com//7.2.3.1//EN
BEGIN:VEVENT
UID:238@chorkreis-askanien.de
DTSTART:20170902T130000Z
DTEND:20170902T130000Z
DTSTAMP:20170824T204455Z
URL:https://chorkreis-askanien.de/termine/25-chorjubilaeum-in-brumby-2017-
 09-02/
SUMMARY:25. Chorjubiläum in Brumby - Brumby\, Autobahnkirche - 02.09.2017 
 - 14:00
DESCRIPTION:Chorkonzert mit dem Frauenchor "Sonara" Brumby und Gastchören 
 in der Kirche "St. Petri" in Brumby\n\nGastchöre: Männerchor Liederkranz
 \; Männerchor Eintracht Neundorf\; Frauen- und Männerchor Hecklingen\; K
 irchenchor Rosenburg\; Frauenchor Sonara Brumby\; Kirchenchor Rosenburg\n
CATEGORIES:+Weitere Chöre Vorhanden,Frauenchor "Sonara" Brumby,Frauenchor
 Hecklingen,Männerchor “Eintracht” Neundorf,Männerchor
 “Liederkranz” Förderstedt,Männerchor Hecklingen
LOCATION:Brumby\, Autobahnkirche\, Kantorberg 1\, Staßfurt OT Brumby\, 392
 40\, Deutschland
X-APPLE-STRUCTURED-LOCATION;VALUE=URI;X-ADDRESS=Kantorberg 1\, Staßfurt OT
  Brumby\, 39240\, Deutschland;X-APPLE-RADIUS=100;X-TITLE=Brumby\, Autobahn
 kirche:geo:0,0
END:VEVENT
END:VCALENDAR